BEGIN:VCALENDAR
VERSION:2.0
PRODID:-//Club Cicloturista Jaén - ECPv5.2.1//NONSGML v1.0//EN
CALSCALE:GREGORIAN
METHOD:PUBLISH
X-WR-CALNAME:Club Cicloturista Jaén
X-ORIGINAL-URL:https://www.ccjaen.es
X-WR-CALDESC:Eventos para Club Cicloturista Jaén
BEGIN:VTIMEZONE
TZID:Europe/Madrid
BEGIN:DAYLIGHT
TZOFFSETFROM:+0100
TZOFFSETTO:+0200
TZNAME:CEST
DTSTART:20210328T010000
END:DAYLIGHT
BEGIN:STANDARD
TZOFFSETFROM:+0200
TZOFFSETTO:+0100
TZNAME:CET
DTSTART:20211031T010000
END:STANDARD
END:VTIMEZONE
BEGIN:VEVENT
DTSTART;TZID=Europe/Madrid:20210704T080000
DTEND;TZID=Europe/Madrid:20210704T080000
DTSTAMP:20260421T103358
CREATED:20210127T164744Z
LAST-MODIFIED:20210211T164639Z
UID:1707-1625385600-1625385600@www.ccjaen.es
SUMMARY:Ruta 22
DESCRIPTION:Hora de Salida:\n8.00h. \nSitio de Salida: \nCorte Inglés. (Sin Coche) \nItinerario: \nJaén – Los Villares – Valdepeñas (Parada) – Jaén \nDistancia: 66 km. \nMapa: \n \n 
URL:https://www.ccjaen.es/evento/ruta-22/
END:VEVENT
END:VCALENDAR