BEGIN:VCALENDAR
VERSION:2.0
PRODID:-//Club Cicloturista Jaén - ECPv5.2.1//NONSGML v1.0//EN
CALSCALE:GREGORIAN
METHOD:PUBLISH
X-WR-CALNAME:Club Cicloturista Jaén
X-ORIGINAL-URL:https://www.ccjaen.es
X-WR-CALDESC:Eventos para Club Cicloturista Jaén
BEGIN:VTIMEZONE
TZID:Europe/Madrid
BEGIN:DAYLIGHT
TZOFFSETFROM:+0100
TZOFFSETTO:+0200
TZNAME:CEST
DTSTART:20230326T010000
END:DAYLIGHT
BEGIN:STANDARD
TZOFFSETFROM:+0200
TZOFFSETTO:+0100
TZNAME:CET
DTSTART:20231029T010000
END:STANDARD
END:VTIMEZONE
BEGIN:VEVENT
DTSTART;TZID=Europe/Madrid:20230716T080000
DTEND;TZID=Europe/Madrid:20230716T080000
DTSTAMP:20260421T120733
CREATED:20230302T104629Z
LAST-MODIFIED:20230302T104629Z
UID:2232-1689494400-1689494400@www.ccjaen.es
SUMMARY:Ruta 24
DESCRIPTION:Hora de Salida:\n8.00h. \nSitio de Salida: \nCorte Inglés. (Sin Coche) \nItinerario: \nJaén – Carchel – Carchelejo – Final Ctra. – Oasis (Parada) – Jaén \nDistancia: 73 km. \nMapa:
URL:https://www.ccjaen.es/evento/ruta-24-3/
END:VEVENT
END:VCALENDAR