BEGIN:VCALENDAR
VERSION:2.0
PRODID:-//Club Cicloturista Jaén - ECPv5.2.1//NONSGML v1.0//EN
CALSCALE:GREGORIAN
METHOD:PUBLISH
X-WR-CALNAME:Club Cicloturista Jaén
X-ORIGINAL-URL:https://www.ccjaen.es
X-WR-CALDESC:Eventos para Club Cicloturista Jaén
BEGIN:VTIMEZONE
TZID:Europe/Madrid
BEGIN:DAYLIGHT
TZOFFSETFROM:+0100
TZOFFSETTO:+0200
TZNAME:CEST
DTSTART:20220327T010000
END:DAYLIGHT
BEGIN:STANDARD
TZOFFSETFROM:+0200
TZOFFSETTO:+0100
TZNAME:CET
DTSTART:20221030T010000
END:STANDARD
END:VTIMEZONE
BEGIN:VEVENT
DTSTART;TZID=Europe/Madrid:20220807T080000
DTEND;TZID=Europe/Madrid:20220807T080000
DTSTAMP:20260422T121318
CREATED:20220328T121455Z
LAST-MODIFIED:20220412T090229Z
UID:2073-1659859200-1659859200@www.ccjaen.es
SUMMARY:Ruta 28
DESCRIPTION:Hora de Salida:\n8.00h. \nSitio de Salida: \nCorte Inglés. (Sin Coche) \nItinerario: \nJaén – Mengibar – Estación de Espeluy – Cazalilla (Parada) – Mengibar – Jaén \nDistancia: 68 km. \nMapa:
URL:https://www.ccjaen.es/evento/ruta-29-2/
END:VEVENT
END:VCALENDAR