BEGIN:VCALENDAR
VERSION:2.0
PRODID:-//Club Cicloturista Jaén - ECPv5.2.1//NONSGML v1.0//EN
CALSCALE:GREGORIAN
METHOD:PUBLISH
X-WR-CALNAME:Club Cicloturista Jaén
X-ORIGINAL-URL:https://www.ccjaen.es
X-WR-CALDESC:Eventos para Club Cicloturista Jaén
BEGIN:VTIMEZONE
TZID:Europe/Madrid
BEGIN:DAYLIGHT
TZOFFSETFROM:+0100
TZOFFSETTO:+0200
TZNAME:CEST
DTSTART:20210328T010000
END:DAYLIGHT
BEGIN:STANDARD
TZOFFSETFROM:+0200
TZOFFSETTO:+0100
TZNAME:CET
DTSTART:20211031T010000
END:STANDARD
END:VTIMEZONE
BEGIN:VEVENT
DTSTART;TZID=Europe/Madrid:20210221T100000
DTEND;TZID=Europe/Madrid:20210221T100000
DTSTAMP:20260422T204234
CREATED:20210127T154033Z
LAST-MODIFIED:20210219T124607Z
UID:1624-1613901600-1613901600@www.ccjaen.es
SUMMARY:Ruta 3
DESCRIPTION:Hora de Salida:\n10h. \nSitio de Salida: \nCorte Inglés. \nItinerario: \nJaén – Garciez – Torredelcampo – Torredonjimeno (Parada) – Jaén \nDistancia: 45 km. \nMapa:
URL:https://www.ccjaen.es/evento/ruta-3/
END:VEVENT
END:VCALENDAR