BEGIN:VCALENDAR
VERSION:2.0
PRODID:-//Club Cicloturista Jaén - ECPv5.2.1//NONSGML v1.0//EN
CALSCALE:GREGORIAN
METHOD:PUBLISH
X-WR-CALNAME:Club Cicloturista Jaén
X-ORIGINAL-URL:https://www.ccjaen.es
X-WR-CALDESC:Eventos para Club Cicloturista Jaén
BEGIN:VTIMEZONE
TZID:Europe/Madrid
BEGIN:DAYLIGHT
TZOFFSETFROM:+0100
TZOFFSETTO:+0200
TZNAME:CEST
DTSTART:20250330T010000
END:DAYLIGHT
BEGIN:STANDARD
TZOFFSETFROM:+0200
TZOFFSETTO:+0100
TZNAME:CET
DTSTART:20251026T010000
END:STANDARD
END:VTIMEZONE
BEGIN:VEVENT
DTSTART;TZID=Europe/Madrid:20250831T080000
DTEND;TZID=Europe/Madrid:20250831T080000
DTSTAMP:20260423T102439
CREATED:20250124T095134Z
LAST-MODIFIED:20250124T095134Z
UID:2687-1756627200-1756627200@www.ccjaen.es
SUMMARY:RUTA 31
DESCRIPTION:Hora de Salida:\n8.00 h. \nSitio de Salida: \nCorte Inglés. (Sin Coche) \nItinerario: \nJaén – Los Villares – Martos (Parada) – Jamilena – Torredelcampo – Garciez – Jaén \nDistancia:  66 km. \nMapa:
URL:https://www.ccjaen.es/evento/ruta-31-5/
END:VEVENT
END:VCALENDAR