BEGIN:VCALENDAR
VERSION:2.0
PRODID:-//Club Cicloturista Jaén - ECPv5.2.1//NONSGML v1.0//EN
CALSCALE:GREGORIAN
METHOD:PUBLISH
X-WR-CALNAME:Club Cicloturista Jaén
X-ORIGINAL-URL:https://www.ccjaen.es
X-WR-CALDESC:Eventos para Club Cicloturista Jaén
BEGIN:VTIMEZONE
TZID:Europe/Madrid
BEGIN:DAYLIGHT
TZOFFSETFROM:+0100
TZOFFSETTO:+0200
TZNAME:CEST
DTSTART:20220327T010000
END:DAYLIGHT
BEGIN:STANDARD
TZOFFSETFROM:+0200
TZOFFSETTO:+0100
TZNAME:CET
DTSTART:20221030T010000
END:STANDARD
END:VTIMEZONE
BEGIN:VEVENT
DTSTART;TZID=Europe/Madrid:20220904T083000
DTEND;TZID=Europe/Madrid:20220904T083000
DTSTAMP:20260420T221325
CREATED:20220329T070334Z
LAST-MODIFIED:20220419T094958Z
UID:2083-1662280200-1662280200@www.ccjaen.es
SUMMARY:Ruta 32
DESCRIPTION:Hora de Salida:\n8.30h. \nSitio de Salida: \nCorte Inglés. \nItinerario: \nJaén – Martos – Otra. Alcaudete – Las Casillas de Martos – La Carrasca – Martos – Torredelcampo – Jaén \nDistancia: 78 km. \nMapa:
URL:https://www.ccjaen.es/evento/ruta-33-2/
END:VEVENT
END:VCALENDAR