BEGIN:VCALENDAR
VERSION:2.0
PRODID:-//Club Cicloturista Jaén - ECPv5.2.1//NONSGML v1.0//EN
CALSCALE:GREGORIAN
METHOD:PUBLISH
X-WR-CALNAME:Club Cicloturista Jaén
X-ORIGINAL-URL:https://www.ccjaen.es
X-WR-CALDESC:Eventos para Club Cicloturista Jaén
BEGIN:VTIMEZONE
TZID:Europe/Madrid
BEGIN:DAYLIGHT
TZOFFSETFROM:+0100
TZOFFSETTO:+0200
TZNAME:CEST
DTSTART:20210328T010000
END:DAYLIGHT
BEGIN:STANDARD
TZOFFSETFROM:+0200
TZOFFSETTO:+0100
TZNAME:CET
DTSTART:20211031T010000
END:STANDARD
END:VTIMEZONE
BEGIN:VEVENT
DTSTART;TZID=Europe/Madrid:20211003T090000
DTEND;TZID=Europe/Madrid:20211003T090000
DTSTAMP:20260422T180819
CREATED:20210127T170508Z
LAST-MODIFIED:20211006T111719Z
UID:1739-1633251600-1633251600@www.ccjaen.es
SUMMARY:Ruta 34
DESCRIPTION:Hora de Salida:\n9.00h. \nSitio de Salida: \nCorte Inglés. \nItinerario: \nJaén  – Porcuna (Parada) – Arjona – Escañuela – Torredonjimeno – Torredelcampo – Jaén \nDistancia: 99 km. \nMapa: \n \n 
URL:https://www.ccjaen.es/evento/ruta-34/
END:VEVENT
END:VCALENDAR