BEGIN:VCALENDAR
VERSION:2.0
PRODID:-//Club Cicloturista Jaén - ECPv5.2.1//NONSGML v1.0//EN
CALSCALE:GREGORIAN
METHOD:PUBLISH
X-WR-CALNAME:Club Cicloturista Jaén
X-ORIGINAL-URL:https://www.ccjaen.es
X-WR-CALDESC:Eventos para Club Cicloturista Jaén
BEGIN:VTIMEZONE
TZID:Europe/Madrid
BEGIN:DAYLIGHT
TZOFFSETFROM:+0100
TZOFFSETTO:+0200
TZNAME:CEST
DTSTART:20210328T010000
END:DAYLIGHT
BEGIN:STANDARD
TZOFFSETFROM:+0200
TZOFFSETTO:+0100
TZNAME:CET
DTSTART:20211031T010000
END:STANDARD
END:VTIMEZONE
BEGIN:VEVENT
DTSTART;TZID=Europe/Madrid:20211031T100000
DTEND;TZID=Europe/Madrid:20211031T100000
DTSTAMP:20260422T121613
CREATED:20210127T171056Z
LAST-MODIFIED:20211014T070009Z
UID:1751-1635674400-1635674400@www.ccjaen.es
SUMMARY:Ruta 38
DESCRIPTION:Hora de Salida:\n10.00h. \nSitio de Salida: \nCorte Inglés. \nItinerario: \nJaén  – El Oasis – Final de la Ctra. – Oasis (Parada) – Jaén \nDistancia: 64 km. \nMapa: \n \n 
URL:https://www.ccjaen.es/evento/ruta-38/
END:VEVENT
END:VCALENDAR