BEGIN:VCALENDAR
VERSION:2.0
PRODID:-//Club Cicloturista Jaén - ECPv5.2.1//NONSGML v1.0//EN
CALSCALE:GREGORIAN
METHOD:PUBLISH
X-WR-CALNAME:Club Cicloturista Jaén
X-ORIGINAL-URL:https://www.ccjaen.es
X-WR-CALDESC:Eventos para Club Cicloturista Jaén
BEGIN:VTIMEZONE
TZID:Europe/Madrid
BEGIN:DAYLIGHT
TZOFFSETFROM:+0100
TZOFFSETTO:+0200
TZNAME:CEST
DTSTART:20230326T010000
END:DAYLIGHT
BEGIN:STANDARD
TZOFFSETFROM:+0200
TZOFFSETTO:+0100
TZNAME:CET
DTSTART:20231029T010000
END:STANDARD
END:VTIMEZONE
BEGIN:VEVENT
DTSTART;TZID=Europe/Madrid:20230212T093000
DTEND;TZID=Europe/Madrid:20230212T093000
DTSTAMP:20260423T135453
CREATED:20230201T104145Z
LAST-MODIFIED:20230222T131732Z
UID:2157-1676194200-1676194200@www.ccjaen.es
SUMMARY:Ruta 2
DESCRIPTION:Hora de Salida:\n09:30h. \nSitio de Salida: \nCorte Inglés. \nItinerario: \nJaén – Villargordo – Mengibar (Parada) – Jaén \nDistancia: 55 km. \nMapa:
URL:https://www.ccjaen.es/evento/ruta-41-2/
END:VEVENT
END:VCALENDAR